BEGIN:VCALENDAR
VERSION:2.0
PRODID:-//Machon Siach - ECPv6.15.20//NONSGML v1.0//EN
CALSCALE:GREGORIAN
METHOD:PUBLISH
X-WR-CALNAME:Machon Siach
X-ORIGINAL-URL:https://machonsiach.org
X-WR-CALDESC:Events for Machon Siach
REFRESH-INTERVAL;VALUE=DURATION:PT1H
X-Robots-Tag:noindex
X-PUBLISHED-TTL:PT1H
BEGIN:VTIMEZONE
TZID:America/New_York
BEGIN:DAYLIGHT
TZOFFSETFROM:-0500
TZOFFSETTO:-0400
TZNAME:EDT
DTSTART:20230312T070000
END:DAYLIGHT
BEGIN:STANDARD
TZOFFSETFROM:-0400
TZOFFSETTO:-0500
TZNAME:EST
DTSTART:20231105T060000
END:STANDARD
BEGIN:DAYLIGHT
TZOFFSETFROM:-0500
TZOFFSETTO:-0400
TZNAME:EDT
DTSTART:20240310T070000
END:DAYLIGHT
BEGIN:STANDARD
TZOFFSETFROM:-0400
TZOFFSETTO:-0500
TZNAME:EST
DTSTART:20241103T060000
END:STANDARD
BEGIN:DAYLIGHT
TZOFFSETFROM:-0500
TZOFFSETTO:-0400
TZNAME:EDT
DTSTART:20250309T070000
END:DAYLIGHT
BEGIN:STANDARD
TZOFFSETFROM:-0400
TZOFFSETTO:-0500
TZNAME:EST
DTSTART:20251102T060000
END:STANDARD
END:VTIMEZONE
BEGIN:VEVENT
DTSTART;TZID=America/New_York:20240310T190000
DTEND;TZID=America/New_York:20240310T190000
DTSTAMP:20260425T122145
CREATED:20240818T171047Z
LAST-MODIFIED:20240818T171047Z
UID:2353-1710097200-1710097200@machonsiach.org
SUMMARY:Expanding Children’s Roles – GGC Cohort 4.5 Session 5
DESCRIPTION:This session will help parents identify ways to expand children’s roles within the family\, in the realms of decision-making\, chores\, health\, and finances\, as a way to strengthen family bonds
URL:https://machonsiach.org/event/expanding-childrens-roles-ggc-cohort-4-5-session-5/
CATEGORIES:Guiding Good Choices
END:VEVENT
BEGIN:VEVENT
DTSTART;TZID=America/New_York:20240309T090000
DTEND;TZID=America/New_York:20240309T090000
DTSTAMP:20260425T122145
CREATED:20240818T171119Z
LAST-MODIFIED:20240818T171119Z
UID:2361-1709974800-1709974800@machonsiach.org
SUMMARY:Strengthening Your Family Bond- GGC Cohort 4.7 Session 3
DESCRIPTION:This session will help parents manage their anger so that it does not corrode family bonds\, and express their feelings to their children in ways that can be productive\, not destructive.
URL:https://machonsiach.org/event/strengthening-your-family-bond-ggc-cohort-4-7-session-3/
CATEGORIES:Guiding Good Choices
END:VEVENT
BEGIN:VEVENT
DTSTART;TZID=America/New_York:20240306T190000
DTEND;TZID=America/New_York:20240306T190000
DTSTAMP:20260425T122145
CREATED:20240818T171417Z
LAST-MODIFIED:20240818T171417Z
UID:2388-1709751600-1709751600@machonsiach.org
SUMMARY:Expanding Children’s Roles – GGC Cohort 3.8 Session 5
DESCRIPTION:This session will help parents identify ways to expand children’s roles within the family\, in the realms of decision-making\, chores\, health\, and finances\, as a way to strengthen family bonds
URL:https://machonsiach.org/event/expanding-childrens-roles-ggc-cohort-3-8-session-5/
CATEGORIES:Guiding Good Choices
END:VEVENT
BEGIN:VEVENT
DTSTART;TZID=America/New_York:20240305T190000
DTEND;TZID=America/New_York:20240305T190000
DTSTAMP:20260425T122145
CREATED:20240818T171347Z
LAST-MODIFIED:20240818T171347Z
UID:2383-1709665200-1709665200@machonsiach.org
SUMMARY:Expanding Children’s Roles – GGC Cohort 3.7 Session 5
DESCRIPTION:This session will help parents identify ways to expand children’s roles within the family\, in the realms of decision-making\, chores\, health\, and finances\, as a way to strengthen family bonds
URL:https://machonsiach.org/event/expanding-childrens-roles-ggc-cohort-3-7-session-5/
CATEGORIES:Guiding Good Choices
END:VEVENT
BEGIN:VEVENT
DTSTART;TZID=America/New_York:20240304T190000
DTEND;TZID=America/New_York:20240304T190000
DTSTAMP:20260425T122145
CREATED:20240818T171418Z
LAST-MODIFIED:20240818T171418Z
UID:2390-1709578800-1709578800@machonsiach.org
SUMMARY:Understanding GMC’s- GGC Cohort 3.9 Session 2
DESCRIPTION:This session will help parents clarify their values\, articulate guidelines to their children\, monitor their children’s behavior\, and implement appropriate consequences\, positive and negative.
URL:https://machonsiach.org/event/understanding-gmcs-ggc-cohort-3-9-session-2/
CATEGORIES:Guiding Good Choices
END:VEVENT
BEGIN:VEVENT
DTSTART;TZID=America/New_York:20240304T190000
DTEND;TZID=America/New_York:20240304T190000
DTSTAMP:20260425T122145
CREATED:20240818T171117Z
LAST-MODIFIED:20240818T171117Z
UID:2358-1709578800-1709578800@machonsiach.org
SUMMARY:Expanding Children’s Roles – GGC Cohort 4.6 Session 5
DESCRIPTION:This session will help parents identify ways to expand children’s roles within the family\, in the realms of decision-making\, chores\, health\, and finances\, as a way to strengthen family bonds
URL:https://machonsiach.org/event/expanding-childrens-roles-ggc-cohort-4-6-session-5/
CATEGORIES:Guiding Good Choices
END:VEVENT
BEGIN:VEVENT
DTSTART;TZID=America/New_York:20240303T190000
DTEND;TZID=America/New_York:20240303T190000
DTSTAMP:20260425T122145
CREATED:20240818T171046Z
LAST-MODIFIED:20240818T171046Z
UID:2352-1709492400-1709492400@machonsiach.org
SUMMARY:Learning Refusal Skills- GGC Cohort 4.5 Session 4
DESCRIPTION:This session invites the students to come learn refusal skills: how to say no when invited to participate in trouble\, while holding onto valued friendships.
URL:https://machonsiach.org/event/learning-refusal-skills-ggc-cohort-4-5-session-4/
CATEGORIES:Guiding Good Choices
END:VEVENT
BEGIN:VEVENT
DTSTART;TZID=America/New_York:20240302T090000
DTEND;TZID=America/New_York:20240302T090000
DTSTAMP:20260425T122145
CREATED:20240818T171118Z
LAST-MODIFIED:20240818T171118Z
UID:2360-1709370000-1709370000@machonsiach.org
SUMMARY:Understanding GMC’s- GGC Cohort 4.7 Session 2
DESCRIPTION:This session will help parents clarify their values\, articulate guidelines to their children\, monitor their children’s behavior\, and implement appropriate consequences\, positive and negative.
URL:https://machonsiach.org/event/understanding-gmcs-ggc-cohort-4-7-session-2/
CATEGORIES:Guiding Good Choices
END:VEVENT
BEGIN:VEVENT
DTSTART;TZID=America/New_York:20240228T190000
DTEND;TZID=America/New_York:20240228T190000
DTSTAMP:20260425T122145
CREATED:20240818T171417Z
LAST-MODIFIED:20240818T171417Z
UID:2387-1709146800-1709146800@machonsiach.org
SUMMARY:Learning Refusal Skills- GGC Cohort 3.8 Session 4
DESCRIPTION:This session invites the students to come learn refusal skills: how to say no when invited to participate in trouble\, while holding onto valued friendships.
URL:https://machonsiach.org/event/learning-refusal-skills-ggc-cohort-3-8-session-4/
CATEGORIES:Guiding Good Choices
END:VEVENT
BEGIN:VEVENT
DTSTART;TZID=America/New_York:20240227T190000
DTEND;TZID=America/New_York:20240227T190000
DTSTAMP:20260425T122145
CREATED:20240818T171346Z
LAST-MODIFIED:20240818T171346Z
UID:2382-1709060400-1709060400@machonsiach.org
SUMMARY:Learning Refusal Skills- GGC Cohort 3.7 Session 4
DESCRIPTION:This session invites the students to come learn refusal skills: how to say no when invited to participate in trouble\, while holding onto valued friendships.
URL:https://machonsiach.org/event/learning-refusal-skills-ggc-cohort-3-7-session-4/
CATEGORIES:Guiding Good Choices
END:VEVENT
BEGIN:VEVENT
DTSTART;TZID=America/New_York:20240226T190000
DTEND;TZID=America/New_York:20240226T190000
DTSTAMP:20260425T122145
CREATED:20240818T171418Z
LAST-MODIFIED:20240818T171418Z
UID:2389-1708974000-1708974000@machonsiach.org
SUMMARY:Social Development Strategy – GGC Cohort 3.9 Session 1
DESCRIPTION:The session will introduce the Social Development Strategy to parents\, provide them with a data portrait of our community\, and invite them to consider their deepest hopes for their children and think about how we get there.
URL:https://machonsiach.org/event/social-development-strategy-ggc-cohort-3-9-session-1/
CATEGORIES:Guiding Good Choices
END:VEVENT
BEGIN:VEVENT
DTSTART;TZID=America/New_York:20240225T190000
DTEND;TZID=America/New_York:20240225T190000
DTSTAMP:20260425T122145
CREATED:20240818T171117Z
LAST-MODIFIED:20240818T171117Z
UID:2357-1708887600-1708887600@machonsiach.org
SUMMARY:Learning Refusal Skills- GGC Cohort 4.6 Session 4
DESCRIPTION:This session invites the students to come learn refusal skills: how to say no when invited to participate in trouble\, while holding onto valued friendships.
URL:https://machonsiach.org/event/learning-refusal-skills-ggc-cohort-4-6-session-4/
CATEGORIES:Guiding Good Choices
END:VEVENT
BEGIN:VEVENT
DTSTART;TZID=America/New_York:20240224T190000
DTEND;TZID=America/New_York:20240224T190000
DTSTAMP:20260425T122145
CREATED:20240818T171019Z
LAST-MODIFIED:20240818T171019Z
UID:2351-1708801200-1708801200@machonsiach.org
SUMMARY:Strengthening Your Family Bond- GGC Cohort 4.5 Session 3
DESCRIPTION:This session will help parents manage their anger so that it does not corrode family bonds\, and express their feelings to their children in ways that can be productive\, not destructive.
URL:https://machonsiach.org/event/strengthening-your-family-bond-ggc-cohort-4-5-session-3/
CATEGORIES:Guiding Good Choices
END:VEVENT
BEGIN:VEVENT
DTSTART;TZID=America/New_York:20240223T090000
DTEND;TZID=America/New_York:20240223T090000
DTSTAMP:20260425T122145
CREATED:20240818T171118Z
LAST-MODIFIED:20240818T171118Z
UID:2359-1708678800-1708678800@machonsiach.org
SUMMARY:Social Development Strategy – GGC Cohort 4.7 Session 1
DESCRIPTION:The session will introduce the Social Development Strategy to parents\, provide them with a data portrait of our community\, and invite them to consider their deepest hopes for their children and think about how we get there.
URL:https://machonsiach.org/event/social-development-strategy-ggc-cohort-4-7-session-1/
CATEGORIES:Guiding Good Choices
END:VEVENT
BEGIN:VEVENT
DTSTART;TZID=America/New_York:20240221T190000
DTEND;TZID=America/New_York:20240221T190000
DTSTAMP:20260425T122145
CREATED:20240818T171348Z
LAST-MODIFIED:20240818T171348Z
UID:2386-1708542000-1708542000@machonsiach.org
SUMMARY:Strengthening Your Family Bond- GGC Cohort 3.8 Session 3
DESCRIPTION:This session will help parents manage their anger so that it does not corrode family bonds\, and express their feelings to their children in ways that can be productive\, not destructive.
URL:https://machonsiach.org/event/strengthening-your-family-bond-ggc-cohort-3-8-session-3/
CATEGORIES:Guiding Good Choices
END:VEVENT
BEGIN:VEVENT
DTSTART;TZID=America/New_York:20240220T190000
DTEND;TZID=America/New_York:20240220T190000
DTSTAMP:20260425T122145
CREATED:20240818T171318Z
LAST-MODIFIED:20240818T171318Z
UID:2381-1708455600-1708455600@machonsiach.org
SUMMARY:Strengthening Your Family Bond- GGC Cohort 3.7 Session 3
DESCRIPTION:This session will help parents manage their anger so that it does not corrode family bonds\, and express their feelings to their children in ways that can be productive\, not destructive.
URL:https://machonsiach.org/event/strengthening-your-family-bond-ggc-cohort-3-7-session-3/
CATEGORIES:Guiding Good Choices
END:VEVENT
BEGIN:VEVENT
DTSTART;TZID=America/New_York:20240218T190000
DTEND;TZID=America/New_York:20240218T190000
DTSTAMP:20260425T122145
CREATED:20240818T171049Z
LAST-MODIFIED:20240818T171049Z
UID:2356-1708282800-1708282800@machonsiach.org
SUMMARY:Strengthening Your Family Bond- GGC Cohort 4.6 Session 3
DESCRIPTION:This session will help parents manage their anger so that it does not corrode family bonds\, and express their feelings to their children in ways that can be productive\, not destructive.
URL:https://machonsiach.org/event/strengthening-your-family-bond-ggc-cohort-4-6-session-3/
CATEGORIES:Guiding Good Choices
END:VEVENT
BEGIN:VEVENT
DTSTART;TZID=America/New_York:20240207T190000
DTEND;TZID=America/New_York:20240207T190000
DTSTAMP:20260425T122145
CREATED:20240818T171348Z
LAST-MODIFIED:20240818T171348Z
UID:2385-1707332400-1707332400@machonsiach.org
SUMMARY:Understanding GMC’s- GGC Cohort 3.8 Session 2
DESCRIPTION:This session will help parents clarify their values\, articulate guidelines to their children\, monitor their children’s behavior\, and implement appropriate consequences\, positive and negative.
URL:https://machonsiach.org/event/understanding-gmcs-ggc-cohort-3-8-session-2/
CATEGORIES:Guiding Good Choices
END:VEVENT
BEGIN:VEVENT
DTSTART;TZID=America/New_York:20240206T190000
DTEND;TZID=America/New_York:20240206T190000
DTSTAMP:20260425T122145
CREATED:20240818T171318Z
LAST-MODIFIED:20240818T171318Z
UID:2380-1707246000-1707246000@machonsiach.org
SUMMARY:Understanding GMC’s- GGC Cohort 3.7 Session 2
DESCRIPTION:This session will help parents clarify their values\, articulate guidelines to their children\, monitor their children’s behavior\, and implement appropriate consequences\, positive and negative.
URL:https://machonsiach.org/event/understanding-gmcs-ggc-cohort-3-7-session-2/
CATEGORIES:Guiding Good Choices
END:VEVENT
BEGIN:VEVENT
DTSTART;TZID=America/New_York:20240206T190000
DTEND;TZID=America/New_York:20240206T190000
DTSTAMP:20260425T122145
CREATED:20240818T171248Z
LAST-MODIFIED:20240818T171248Z
UID:2373-1707246000-1707246000@machonsiach.org
SUMMARY:Expanding Children’s Roles – GGC Cohort 3.5 Session 5
DESCRIPTION:This session will help parents identify ways to expand children’s roles within the family\, in the realms of decision-making\, chores\, health\, and finances\, as a way to strengthen family bonds
URL:https://machonsiach.org/event/expanding-childrens-roles-ggc-cohort-3-5-session-5/
CATEGORIES:Guiding Good Choices
END:VEVENT
BEGIN:VEVENT
DTSTART;TZID=America/New_York:20240205T190000
DTEND;TZID=America/New_York:20240205T190000
DTSTAMP:20260425T122145
CREATED:20240818T171017Z
LAST-MODIFIED:20240818T171017Z
UID:2348-1707159600-1707159600@machonsiach.org
SUMMARY:Expanding Children’s Roles – GGC Cohort 4.4 Session 5
DESCRIPTION:This session will help parents identify ways to expand children’s roles within the family\, in the realms of decision-making\, chores\, health\, and finances\, as a way to strengthen family bonds
URL:https://machonsiach.org/event/expanding-childrens-roles-ggc-cohort-4-4-session-5/
CATEGORIES:Guiding Good Choices
END:VEVENT
BEGIN:VEVENT
DTSTART;TZID=America/New_York:20240204T190000
DTEND;TZID=America/New_York:20240204T190000
DTSTAMP:20260425T122145
CREATED:20240818T171048Z
LAST-MODIFIED:20240818T171048Z
UID:2355-1707073200-1707073200@machonsiach.org
SUMMARY:Understanding GMC’s- GGC Cohort 4.6 Session 2
DESCRIPTION:This session will help parents clarify their values\, articulate guidelines to their children\, monitor their children’s behavior\, and implement appropriate consequences\, positive and negative.
URL:https://machonsiach.org/event/understanding-gmcs-ggc-cohort-4-6-session-2/
CATEGORIES:Guiding Good Choices
END:VEVENT
BEGIN:VEVENT
DTSTART;TZID=America/New_York:20240203T190000
DTEND;TZID=America/New_York:20240203T190000
DTSTAMP:20260425T122145
CREATED:20240818T171019Z
LAST-MODIFIED:20240818T171019Z
UID:2350-1706986800-1706986800@machonsiach.org
SUMMARY:Understanding GMC’s- GGC Cohort 4.5 Session 2
DESCRIPTION:This session will help parents clarify their values\, articulate guidelines to their children\, monitor their children’s behavior\, and implement appropriate consequences\, positive and negative.
URL:https://machonsiach.org/event/understanding-gmcs-ggc-cohort-4-5-session-2/
CATEGORIES:Guiding Good Choices
END:VEVENT
BEGIN:VEVENT
DTSTART;TZID=America/New_York:20240131T190000
DTEND;TZID=America/New_York:20240131T190000
DTSTAMP:20260425T122145
CREATED:20240818T171347Z
LAST-MODIFIED:20240818T171347Z
UID:2384-1706727600-1706727600@machonsiach.org
SUMMARY:Social Development Strategy – GGC Cohort 3.8 Session 1
DESCRIPTION:The session will introduce the Social Development Strategy to parents\, provide them with a data portrait of our community\, and invite them to consider their deepest hopes for their children and think about how we get there.
URL:https://machonsiach.org/event/social-development-strategy-ggc-cohort-3-8-session-1/
CATEGORIES:Guiding Good Choices
END:VEVENT
BEGIN:VEVENT
DTSTART;TZID=America/New_York:20240130T190000
DTEND;TZID=America/New_York:20240130T190000
DTSTAMP:20260425T122145
CREATED:20240818T171318Z
LAST-MODIFIED:20240818T171318Z
UID:2379-1706641200-1706641200@machonsiach.org
SUMMARY:Social Development Strategy – GGC Cohort 3.7 Session 1
DESCRIPTION:The session will introduce the Social Development Strategy to parents\, provide them with a data portrait of our community\, and invite them to consider their deepest hopes for their children and think about how we get there.
URL:https://machonsiach.org/event/social-development-strategy-ggc-cohort-3-7-session-1/
CATEGORIES:Guiding Good Choices
END:VEVENT
BEGIN:VEVENT
DTSTART;TZID=America/New_York:20240129T190000
DTEND;TZID=America/New_York:20240129T190000
DTSTAMP:20260425T122145
CREATED:20240818T171017Z
LAST-MODIFIED:20240818T171017Z
UID:2347-1706554800-1706554800@machonsiach.org
SUMMARY:Learning Refusal Skills- GGC Cohort 4.4 Session 4
DESCRIPTION:This session invites the students to come learn refusal skills: how to say no when invited to participate in trouble\, while holding onto valued friendships.
URL:https://machonsiach.org/event/learning-refusal-skills-ggc-cohort-4-4-session-4/
CATEGORIES:Guiding Good Choices
END:VEVENT
BEGIN:VEVENT
DTSTART;TZID=America/New_York:20240128T190000
DTEND;TZID=America/New_York:20240128T190000
DTSTAMP:20260425T122145
CREATED:20240818T171048Z
LAST-MODIFIED:20240818T171048Z
UID:2354-1706468400-1706468400@machonsiach.org
SUMMARY:Social Development Strategy – GGC Cohort 4.6 Session 1
DESCRIPTION:The session will introduce the Social Development Strategy to parents\, provide them with a data portrait of our community\, and invite them to consider their deepest hopes for their children and think about how we get there.
URL:https://machonsiach.org/event/social-development-strategy-ggc-cohort-4-6-session-1/
CATEGORIES:Guiding Good Choices
END:VEVENT
BEGIN:VEVENT
DTSTART;TZID=America/New_York:20240127T190000
DTEND;TZID=America/New_York:20240127T190000
DTSTAMP:20260425T122145
CREATED:20240818T171018Z
LAST-MODIFIED:20240818T171018Z
UID:2349-1706382000-1706382000@machonsiach.org
SUMMARY:Social Development Strategy – GGC Cohort 4.5 Session 1
DESCRIPTION:The session will introduce the Social Development Strategy to parents\, provide them with a data portrait of our community\, and invite them to consider their deepest hopes for their children and think about how we get there.
URL:https://machonsiach.org/event/social-development-strategy-ggc-cohort-4-5-session-1/
CATEGORIES:Guiding Good Choices
END:VEVENT
BEGIN:VEVENT
DTSTART;TZID=America/New_York:20240124T190000
DTEND;TZID=America/New_York:20240124T190000
DTSTAMP:20260425T122145
CREATED:20240818T171317Z
LAST-MODIFIED:20240818T171317Z
UID:2378-1706122800-1706122800@machonsiach.org
SUMMARY:Expanding Children’s Roles – GGC Cohort 3.6 Session 5
DESCRIPTION:This session will help parents identify ways to expand children’s roles within the family\, in the realms of decision-making\, chores\, health\, and finances\, as a way to strengthen family bonds
URL:https://machonsiach.org/event/expanding-childrens-roles-ggc-cohort-3-6-session-5/
CATEGORIES:Guiding Good Choices
END:VEVENT
BEGIN:VEVENT
DTSTART;TZID=America/New_York:20240123T190000
DTEND;TZID=America/New_York:20240123T190000
DTSTAMP:20260425T122145
CREATED:20240818T171247Z
LAST-MODIFIED:20240818T171247Z
UID:2372-1706036400-1706036400@machonsiach.org
SUMMARY:Learning Refusal Skills- GGC Cohort 3.5 Session 4
DESCRIPTION:This session invites the students to come learn refusal skills: how to say no when invited to participate in trouble\, while holding onto valued friendships.
URL:https://machonsiach.org/event/learning-refusal-skills-ggc-cohort-3-5-session-4/
CATEGORIES:Guiding Good Choices
END:VEVENT
END:VCALENDAR